BEGIN:VCALENDAR
VERSION:2.0
PRODID:-//The Right Men's Club of Collier County, (Former Republican Men's Club) - ECPv6.15.20//NONSGML v1.0//EN
CALSCALE:GREGORIAN
METHOD:PUBLISH
X-WR-CALNAME:The Right Men's Club of Collier County, (Former Republican Men's Club)
X-ORIGINAL-URL:https://mensclubcc.org
X-WR-CALDESC:Events for The Right Men's Club of Collier County, (Former Republican Men's Club)
REFRESH-INTERVAL;VALUE=DURATION:PT1H
X-Robots-Tag:noindex
X-PUBLISHED-TTL:PT1H
BEGIN:VTIMEZONE
TZID:America/New_York
BEGIN:DAYLIGHT
TZOFFSETFROM:-0500
TZOFFSETTO:-0400
TZNAME:EDT
DTSTART:20240310T070000
END:DAYLIGHT
BEGIN:STANDARD
TZOFFSETFROM:-0400
TZOFFSETTO:-0500
TZNAME:EST
DTSTART:20241103T060000
END:STANDARD
BEGIN:DAYLIGHT
TZOFFSETFROM:-0500
TZOFFSETTO:-0400
TZNAME:EDT
DTSTART:20250309T070000
END:DAYLIGHT
BEGIN:STANDARD
TZOFFSETFROM:-0400
TZOFFSETTO:-0500
TZNAME:EST
DTSTART:20251102T060000
END:STANDARD
BEGIN:DAYLIGHT
TZOFFSETFROM:-0500
TZOFFSETTO:-0400
TZNAME:EDT
DTSTART:20260308T070000
END:DAYLIGHT
BEGIN:STANDARD
TZOFFSETFROM:-0400
TZOFFSETTO:-0500
TZNAME:EST
DTSTART:20261101T060000
END:STANDARD
END:VTIMEZONE
BEGIN:VEVENT
DTSTART;TZID=America/New_York:20250110T073000
DTEND;TZID=America/New_York:20250110T090000
DTSTAMP:20260421T113817
CREATED:20240805T195554Z
LAST-MODIFIED:20241209T164031Z
UID:6937-1736494200-1736499600@mensclubcc.org
SUMMARY:January Breakfast Meeting  - Diana Simpson\, Constitutional Litigator
DESCRIPTION:Register or RSVP Here\nJoin us for breakfast on Friday\, January 10th at 7:30 am. Featured speaker is Diana Simpson. Diana Simpson is an attorney with the Institute for Justice. She joined the Institute’s headquarters office in 2013 after working as a constitutional law fellow in the Arizona office. \nDiana litigates to protect private property and other individual rights\, with a particular interest in challenging irrational zoning decisions and abusive fines and fees practices. For instance\, she represented a homeless shelter after a North Carolina town invoked bogus reasons to prohibit it from opening. The team obtained a federal court victory recognizing that the government violated the Constitution by irrationally denying the shelter its needed permit to open. \nShe currently represents a Texas auto mechanic who faces an impossible-to-comply-with minimum parking requirement. And she is lead attorney in a class action lawsuit against the City of Chicago challenging its impound system\, which imposes excessive fines and harsh fees on tens of thousands of Chicago residents and visitors each year. Beyond these cases\, she has represented many other Americans in their fight to pursue their dreams. \nDiana’s work has been featured by outlets including The Economist\, The Wall Street Journal\, National Public Radio’s 1A\, The New York Times\, and many others nationwide. \nIJ’s 4 Pillars: \nJ’s work targets the core freedoms that form the foundation of a free society: the rights to own and enjoy property\, speak freely\, earn a living\, and have a meaningful choice in your children’s education. We have litigated hundreds of cases on behalf of thousands of individuals under those four pillars\, and Americans are measurably freer in each area as a direct result of our work.
URL:https://mensclubcc.org/event/january-breakfast-meeting-diana-simpson-constitutional-litigator/
LOCATION:Naples Hilton\, 5111 Tamiami Trail No\, Naples\, Florida\, 34103
END:VEVENT
BEGIN:VEVENT
DTSTART;TZID=America/New_York:20250128T170000
DTEND;TZID=America/New_York:20250128T190000
DTSTAMP:20260421T113817
CREATED:20250106T194426Z
LAST-MODIFIED:20250108T155147Z
UID:7315-1738083600-1738090800@mensclubcc.org
SUMMARY:The Right Connection Social
DESCRIPTION:Join us Tuesday\, January 28th for our quarterly social gathering\, where members can mingle in a relaxed atmosphere. It’s not just for the gentlemen—women are invited too! This evening is an excellent opportunity to connect with fellow members and introduce your guests to the vibrant community of our Men’s Club. Bring a friend – You don’t need to be a member. \n\nFree Appetizers\nCash Bar\nBring a Friend
URL:https://mensclubcc.org/event/the-right-connection-social/
LOCATION:South Street City Oven Bar and Grill – Goodlette\, 1410 Pine Ridge Road Ste 4\, Naples\, Florida\, 34108
END:VEVENT
END:VCALENDAR