BEGIN:VCALENDAR
VERSION:2.0
PRODID:-//The Right Men's Club of Collier County, (Former Republican Men's Club) - ECPv6.15.20//NONSGML v1.0//EN
CALSCALE:GREGORIAN
METHOD:PUBLISH
X-ORIGINAL-URL:https://mensclubcc.org
X-WR-CALDESC:Events for The Right Men's Club of Collier County, (Former Republican Men's Club)
REFRESH-INTERVAL;VALUE=DURATION:PT1H
X-Robots-Tag:noindex
X-PUBLISHED-TTL:PT1H
BEGIN:VTIMEZONE
TZID:America/New_York
BEGIN:DAYLIGHT
TZOFFSETFROM:-0500
TZOFFSETTO:-0400
TZNAME:EDT
DTSTART:20230312T070000
END:DAYLIGHT
BEGIN:STANDARD
TZOFFSETFROM:-0400
TZOFFSETTO:-0500
TZNAME:EST
DTSTART:20231105T060000
END:STANDARD
BEGIN:DAYLIGHT
TZOFFSETFROM:-0500
TZOFFSETTO:-0400
TZNAME:EDT
DTSTART:20240310T070000
END:DAYLIGHT
BEGIN:STANDARD
TZOFFSETFROM:-0400
TZOFFSETTO:-0500
TZNAME:EST
DTSTART:20241103T060000
END:STANDARD
BEGIN:DAYLIGHT
TZOFFSETFROM:-0500
TZOFFSETTO:-0400
TZNAME:EDT
DTSTART:20250309T070000
END:DAYLIGHT
BEGIN:STANDARD
TZOFFSETFROM:-0400
TZOFFSETTO:-0500
TZNAME:EST
DTSTART:20251102T060000
END:STANDARD
END:VTIMEZONE
BEGIN:VEVENT
DTSTART;TZID=America/New_York:20240802T073000
DTEND;TZID=America/New_York:20240802T090000
DTSTAMP:20260421T190803
CREATED:20240119T024632Z
LAST-MODIFIED:20240712T031211Z
UID:6427-1722583800-1722589200@mensclubcc.org
SUMMARY:Florida State House Candidate Forum
DESCRIPTION:Join us Friday\, August 2nd for breakfast and hear the State Representative District 81 Candidates speak\, without all the hype\, getting down to the real issues that face the State of Florida and who you think can best represent Collier County. The winner of the August primary will face a Democratic opponent in the General Election in November. \nClick Here to Register\n 
URL:https://mensclubcc.org/event/florida-state-house-candidate-forum/
LOCATION:Naples Hilton\, 5111 Tamiami Trail No\, Naples\, Florida\, 34103
END:VEVENT
END:VCALENDAR