BEGIN:VCALENDAR
VERSION:2.0
PRODID:-//The Right Men's Club of Collier County, (Former Republican Men's Club) - ECPv6.15.20//NONSGML v1.0//EN
CALSCALE:GREGORIAN
METHOD:PUBLISH
X-ORIGINAL-URL:https://mensclubcc.org
X-WR-CALDESC:Events for The Right Men's Club of Collier County, (Former Republican Men's Club)
REFRESH-INTERVAL;VALUE=DURATION:PT1H
X-Robots-Tag:noindex
X-PUBLISHED-TTL:PT1H
BEGIN:VTIMEZONE
TZID:America/New_York
BEGIN:DAYLIGHT
TZOFFSETFROM:-0500
TZOFFSETTO:-0400
TZNAME:EDT
DTSTART:20230312T070000
END:DAYLIGHT
BEGIN:STANDARD
TZOFFSETFROM:-0400
TZOFFSETTO:-0500
TZNAME:EST
DTSTART:20231105T060000
END:STANDARD
BEGIN:DAYLIGHT
TZOFFSETFROM:-0500
TZOFFSETTO:-0400
TZNAME:EDT
DTSTART:20240310T070000
END:DAYLIGHT
BEGIN:STANDARD
TZOFFSETFROM:-0400
TZOFFSETTO:-0500
TZNAME:EST
DTSTART:20241103T060000
END:STANDARD
BEGIN:DAYLIGHT
TZOFFSETFROM:-0500
TZOFFSETTO:-0400
TZNAME:EDT
DTSTART:20250309T070000
END:DAYLIGHT
BEGIN:STANDARD
TZOFFSETFROM:-0400
TZOFFSETTO:-0500
TZNAME:EST
DTSTART:20251102T060000
END:STANDARD
END:VTIMEZONE
BEGIN:VEVENT
DTSTART;TZID=America/New_York:20240712T073000
DTEND;TZID=America/New_York:20240712T090000
DTSTAMP:20260421T204757
CREATED:20240119T024439Z
LAST-MODIFIED:20240611T181726Z
UID:6424-1720769400-1720774800@mensclubcc.org
SUMMARY:Collier County School Board Candidate Forum
DESCRIPTION:Click Here to Register\n\nJoin us Friday\, July 12th for breakfast and hear the Collier County schoolboard candidates speak\, without all the hype\, getting down to the real issues that face the local Collier County education issues. \nDistrict 2 candidates competing for a position include Pam Cunningham and Stephanie Lucarelli. District 4 candidates are Erick Carter and Tom Henning.
URL:https://mensclubcc.org/event/collier-county-school-board-candidate-forum/
LOCATION:Naples Hilton\, 5111 Tamiami Trail No\, Naples\, Florida\, 34103
END:VEVENT
BEGIN:VEVENT
DTSTART;TZID=America/New_York:20240723T170000
DTEND;TZID=America/New_York:20240723T190000
DTSTAMP:20260421T204757
CREATED:20240305T205011Z
LAST-MODIFIED:20240702T201424Z
UID:6598-1721754000-1721761200@mensclubcc.org
SUMMARY:The Right Connections Social
DESCRIPTION:Join us for our fourth social gathering\, where members can mingle in a relaxed atmosphere. It’s not just for the gentlemen—women are invited too! This evening is an excellent opportunity to connect with fellow members and introduce your guests to the vibrant community of our Men’s Club. Bring a friend – You don’t need to be a member. \nMen and Women are Welcome. \nIt’s Tuesday\, July 23rd at South Street Grille at the Goodlett Frank/Pine Ridge Intersection. \nNo Cover\, Cash Bar\, Appetizers provided.
URL:https://mensclubcc.org/event/the-right-connections-social-3/
LOCATION:South Street City Oven Bar and Grill – Goodlette\, 1410 Pine Ridge Road Ste 4\, Naples\, Florida\, 34108
END:VEVENT
END:VCALENDAR