BEGIN:VCALENDAR
VERSION:2.0
PRODID:-//The Right Men's Club of Collier County, (Former Republican Men's Club) - ECPv6.15.20//NONSGML v1.0//EN
CALSCALE:GREGORIAN
METHOD:PUBLISH
X-ORIGINAL-URL:https://mensclubcc.org
X-WR-CALDESC:Events for The Right Men's Club of Collier County, (Former Republican Men's Club)
REFRESH-INTERVAL;VALUE=DURATION:PT1H
X-Robots-Tag:noindex
X-PUBLISHED-TTL:PT1H
BEGIN:VTIMEZONE
TZID:America/New_York
BEGIN:DAYLIGHT
TZOFFSETFROM:-0500
TZOFFSETTO:-0400
TZNAME:EDT
DTSTART:20230312T070000
END:DAYLIGHT
BEGIN:STANDARD
TZOFFSETFROM:-0400
TZOFFSETTO:-0500
TZNAME:EST
DTSTART:20231105T060000
END:STANDARD
BEGIN:DAYLIGHT
TZOFFSETFROM:-0500
TZOFFSETTO:-0400
TZNAME:EDT
DTSTART:20240310T070000
END:DAYLIGHT
BEGIN:STANDARD
TZOFFSETFROM:-0400
TZOFFSETTO:-0500
TZNAME:EST
DTSTART:20241103T060000
END:STANDARD
BEGIN:DAYLIGHT
TZOFFSETFROM:-0500
TZOFFSETTO:-0400
TZNAME:EDT
DTSTART:20250309T070000
END:DAYLIGHT
BEGIN:STANDARD
TZOFFSETFROM:-0400
TZOFFSETTO:-0500
TZNAME:EST
DTSTART:20251102T060000
END:STANDARD
END:VTIMEZONE
BEGIN:VEVENT
DTSTART;TZID=America/New_York:20240301T073000
DTEND;TZID=America/New_York:20240301T090000
DTSTAMP:20260422T031631
CREATED:20240110T194520Z
LAST-MODIFIED:20240223T154707Z
UID:6358-1709278200-1709283600@mensclubcc.org
SUMMARY:Jim DeMint - "Building a Conservative Culture in Washington"
DESCRIPTION:Click Here to RSVP\nJoin Us – Friday\, March 1st at 7:30 am\, as we bring Jim DeMint to substitute for Mark Meadows cancellation. \nJim DeMint has fought tirelessly for freedom\, prosperity\, and traditional American values against the Washington swamp for over two decades. Today\, he leads and trains a new generation of conservative warriors as Chairman of the Conservative Partnership Institute. \nDeMint represented South Carolina in the U.S. House (1999-2005) and U.S. Senate (2005-2013). Known for policy innovation\, he authored leading conservative reforms to health care\, education\, taxes\, and entitlements. DeMint garnered national acclaim from conservatives for leading efforts to ban congressional earmarks\, the source of billions of dollars of wasteful spending for decades which had led to corruption and widespread abuse. He also successfully led the fight to stop the McCain-Kennedy amnesty bill in 2007. DeMint is also the Founder of the Senate Conservatives Fund\, which played a major role in the election of many of the Senate’s leading conservatives like Mike Lee\, Ted Cruz\, Rand Paul\, and Tom Cotton. \nDeMint then served as the President of The Heritage Foundation for four years\, taking the organization to new heights of influence. Under DeMint’s direction\, Heritage played a major role in the Trump transition team\, with the policy series “Mandate for Leadership” used as the basis for the President’s first budget and numerous other administration reforms. During DeMint’s tenure\, Heritage partnered with the Federalist Society to create a list of possible Supreme Court judicial nominations that culminated in the confirmation of Justice Neil Gorsuch. President Trump appointed DeMint to the White House Economic Advisory Board in 2020. \nDeMint’s latest book\, They’re Lying to You\, was a number 1# best seller on Amazon. He and his wife\, Debbie\, have four children who now are grown and married. They’ve taken a shine to being grandparents.
URL:https://mensclubcc.org/event/jim-demint-and-mark-meadows/
LOCATION:Naples Hilton\, 5111 Tamiami Trail No\, Naples\, Florida\, 34103
END:VEVENT
BEGIN:VEVENT
DTSTART;TZID=America/New_York:20240312T170000
DTEND;TZID=America/New_York:20240312T190000
DTSTAMP:20260422T031631
CREATED:20240305T204308Z
LAST-MODIFIED:20240305T204308Z
UID:6592-1710262800-1710270000@mensclubcc.org
SUMMARY:The Right Connections Social
DESCRIPTION:
URL:https://mensclubcc.org/event/the-right-connections-social/
LOCATION:South Street City Oven – Founders Square\, 8845 Founders Square Drive\, Naples\, Florida\, 34120
END:VEVENT
END:VCALENDAR