BEGIN:VCALENDAR
VERSION:2.0
PRODID:-//The Right Men's Club of Collier County, (Former Republican Men's Club) - ECPv6.15.20//NONSGML v1.0//EN
CALSCALE:GREGORIAN
METHOD:PUBLISH
X-ORIGINAL-URL:https://mensclubcc.org
X-WR-CALDESC:Events for The Right Men's Club of Collier County, (Former Republican Men's Club)
REFRESH-INTERVAL;VALUE=DURATION:PT1H
X-Robots-Tag:noindex
X-PUBLISHED-TTL:PT1H
BEGIN:VTIMEZONE
TZID:America/New_York
BEGIN:DAYLIGHT
TZOFFSETFROM:-0500
TZOFFSETTO:-0400
TZNAME:EDT
DTSTART:20250309T070000
END:DAYLIGHT
BEGIN:STANDARD
TZOFFSETFROM:-0400
TZOFFSETTO:-0500
TZNAME:EST
DTSTART:20251102T060000
END:STANDARD
BEGIN:DAYLIGHT
TZOFFSETFROM:-0500
TZOFFSETTO:-0400
TZNAME:EDT
DTSTART:20260308T070000
END:DAYLIGHT
BEGIN:STANDARD
TZOFFSETFROM:-0400
TZOFFSETTO:-0500
TZNAME:EST
DTSTART:20261101T060000
END:STANDARD
BEGIN:DAYLIGHT
TZOFFSETFROM:-0500
TZOFFSETTO:-0400
TZNAME:EDT
DTSTART:20270314T070000
END:DAYLIGHT
BEGIN:STANDARD
TZOFFSETFROM:-0400
TZOFFSETTO:-0500
TZNAME:EST
DTSTART:20271107T060000
END:STANDARD
END:VTIMEZONE
BEGIN:VTIMEZONE
TZID:UTC
BEGIN:STANDARD
TZOFFSETFROM:+0000
TZOFFSETTO:+0000
TZNAME:UTC
DTSTART:20250101T000000
END:STANDARD
END:VTIMEZONE
BEGIN:VEVENT
DTSTART;TZID=America/New_York:20260410T073000
DTEND;TZID=America/New_York:20260410T090000
DTSTAMP:20260422T022839
CREATED:20250815T190152Z
LAST-MODIFIED:20260407T205125Z
UID:7784-1775806200-1775811600@mensclubcc.org
SUMMARY:April Breakfast - Florida CFO Blaise Ignoglia
DESCRIPTION:Click Here to Register or RSVP \nBlaise Ingoglia\, Chief Financial Officer (CFO) and Chief Fire Marshal for the State of Florida was appointed in July of 2025. As a State Senator he was one of the most influential conservative voices in the state\, will be speaking to The Right Men’s Club of Collier County on April 10th\, 7:30 am at the Naples Hilton. \nFlorida’s CFO serves as one of three constitutionally elected state executives of the Florida Cabinet\, which comprises the Chief Financial Officer\, the Attorney General\, and the Commissioner of Agriculture and Consumer Services. \nBlaise Ingoglia built his reputation by holding government accountable\, long before he held public office. Originally from New York\, Blaise moved to Spring Hill\, Florida\, in 1996 with just $1\,600 to his name. He soon found success as a mortgage broker and later founded Hartland Homes\, a homebuilding company dedicated to helping working families achieve the dream of homeownership. \nIngoglia has been at the center of Florida’s conservative transformation over the last decade. A former Chairman of the Republican Party of Florida and as a Senator\, he has been a driving force behind key GOP priorities in the state\, including: \n\nElection integrity and voting reforms\nStrong border and immigration enforcement measures\nCutting taxes and reducing the size of government\nExpanding parental rights and pushing back on woke policies in schools and corporations\nDefending the Second Amendment and law enforcement\n\nHe is known for his plain-spoken\, hard-hitting style and his willingness to take on the Left\, the media\, and the Republican establishment when necessary. \nThis event will give our members an inside look at: \n\nHow Florida became the model for conservative governance\nWhat big fights conservatives are facing next in Tallahassee and nationally\nHow grassroots activists and local leaders can make the most impact in 2024 and beyond\n\nIf you want to hear directly from a key architect of Florida’s conservative agenda—and ask your own questions—don’t miss Blaise Ingoglia on April 10th.
URL:https://mensclubcc.org/event/april-breakfast/
LOCATION:Naples Hilton\, 5111 Tamiami Trail No\, Naples\, Florida\, 34103
END:VEVENT
BEGIN:VEVENT
DTSTART;TZID=America/New_York:20260428T170000
DTEND;TZID=America/New_York:20260428T190000
DTSTAMP:20260422T022839
CREATED:20260204T150835Z
LAST-MODIFIED:20260408T134655Z
UID:8048-1777395600-1777402800@mensclubcc.org
SUMMARY:The Right Connections Social
DESCRIPTION:Join us Tuesday\, April 28th for our quarterly social gathering\, where members can mingle in a relaxed atmosphere. It’s not just for the gentlemen—women are invited too! This evening is an excellent opportunity to connect with fellow members and introduce your guests to the vibrant community of our Men’s Club. Bring a friend – You don’t need to be a member. \n\nFree Appetizers\nCash Bar\nBring a Friend
URL:https://mensclubcc.org/event/the-right-connections-social-10/
LOCATION:Aqua North Naples\, 2348 Immokalee Road\, Naples\, FL\, 34110\, United States
END:VEVENT
BEGIN:VEVENT
DTSTART;TZID=America/New_York:20260508T073000
DTEND;TZID=America/New_York:20260508T090000
DTSTAMP:20260422T022839
CREATED:20250815T190240Z
LAST-MODIFIED:20260416T201004Z
UID:7787-1778225400-1778230800@mensclubcc.org
SUMMARY:May Breakfast - Legislative Update
DESCRIPTION:Click Here to Register or RSVP\nJoin us for breakfast as we hear from our State Legislators on what happened this legislative session and how issue were overcome to complete the session.
URL:https://mensclubcc.org/event/may-breakfast/
LOCATION:Naples Hilton\, 5111 Tamiami Trail No\, Naples\, Florida\, 34103
END:VEVENT
BEGIN:VEVENT
DTSTART;TZID=America/New_York:20260605T073000
DTEND;TZID=America/New_York:20260605T090000
DTSTAMP:20260422T022839
CREATED:20250815T190325Z
LAST-MODIFIED:20260204T150028Z
UID:7790-1780644600-1780650000@mensclubcc.org
SUMMARY:June Breakfast - Candidate Forum - Collier County School Board
DESCRIPTION:Republican Candidates for Collier County School Board
URL:https://mensclubcc.org/event/june-breakfast/
LOCATION:Naples Hilton\, 5111 Tamiami Trail No\, Naples\, Florida\, 34103
END:VEVENT
BEGIN:VEVENT
DTSTART;TZID=America/New_York:20260710T073000
DTEND;TZID=America/New_York:20260710T090000
DTSTAMP:20260422T022839
CREATED:20250815T190404Z
LAST-MODIFIED:20260204T150127Z
UID:7793-1783668600-1783674000@mensclubcc.org
SUMMARY:July Meeting - Candidate Forum - Congressional Candidates
DESCRIPTION:Republican Candidates for District 19 and 26 Congressional Seats
URL:https://mensclubcc.org/event/july-meeting/
LOCATION:Naples Hilton\, 5111 Tamiami Trail No\, Naples\, Florida\, 34103
END:VEVENT
BEGIN:VEVENT
DTSTART;TZID=America/New_York:20260807T073000
DTEND;TZID=America/New_York:20260807T090000
DTSTAMP:20260422T022839
CREATED:20250815T190451Z
LAST-MODIFIED:20260204T150242Z
UID:7796-1786087800-1786093200@mensclubcc.org
SUMMARY:August Breakfast - Candidate Forum - State Representative/Senate Candidates
DESCRIPTION:Florida Republican State Senate and House Districts
URL:https://mensclubcc.org/event/august-breakfast/
LOCATION:Naples Hilton\, 5111 Tamiami Trail No\, Naples\, Florida\, 34103
END:VEVENT
BEGIN:VEVENT
DTSTART;TZID=America/New_York:20260911T073000
DTEND;TZID=America/New_York:20260911T090000
DTSTAMP:20260422T022839
CREATED:20250815T190718Z
LAST-MODIFIED:20251022T140602Z
UID:7799-1789111800-1789117200@mensclubcc.org
SUMMARY:September Breakfast - Special 9/11 Program
DESCRIPTION:
URL:https://mensclubcc.org/event/september-breakfast/
LOCATION:Naples Hilton\, 5111 Tamiami Trail No\, Naples\, Florida\, 34103
END:VEVENT
BEGIN:VEVENT
DTSTART;TZID=UTC:20261002T073000
DTEND;TZID=UTC:20261002T090000
DTSTAMP:20260422T022839
CREATED:20250815T190845Z
LAST-MODIFIED:20251022T140712Z
UID:7802-1790926200-1790931600@mensclubcc.org
SUMMARY:October Breakfast - The Civil War - A Benchmark in US History
DESCRIPTION:
URL:https://mensclubcc.org/event/october-breakfast/
LOCATION:Naples Hilton\, 5111 Tamiami Trail No\, Naples\, Florida\, 34103
END:VEVENT
BEGIN:VEVENT
DTSTART;TZID=America/New_York:20261106T113000
DTEND;TZID=America/New_York:20261106T130000
DTSTAMP:20260422T022839
CREATED:20251022T140911Z
LAST-MODIFIED:20260227T204608Z
UID:7913-1793964600-1793970000@mensclubcc.org
SUMMARY:November Luncheon - 9th Annual Salute to Veterans - Hall of Fame Ranger Keni Thomas
DESCRIPTION:Featured Speaker – Keni Thomas – Blackhawk Down\nClick Here to See Ticket and Sponsor Options\n\nDecorated U.S. military veteran-turned-country musician Keni Thomas gives a personal account of his heart-wrenching experiences in the chaotic 1993 Battle of Mogadishu to express a unique set of leadership lessons and inspired view of our greater purpose. \n“Blackhawk Down” is a well-documented and historically significant battle that has inspired Americans for many years. But what if you could hear the story straight from someone who was there on the streets that day? What would you want to learn and how could it help you? When you discover first-hand what makes soldiers willingly put their lives on the line for each other\, then you begin to understand what it takes for you to do the same. If leading by example is something that is important to you\, then you will want to hear what Keni Thomas has to say about combat. \nLike no speaker you’ve seen before\, Keni’s unique ability to tell an engaging story takes you into the moment showing you how the hard lessons learned during the worst of times\, can make each of us a better leader\, capable of greatness. “When lives are on the line\, and so much is at stake\, all we really fight for is each other” says Thomas. \n  \n\nSSG Ranger Kenneth Thomas \nRanger Kenneth Thomas was inducted into the Ranger Hall of Fame for his exceptional combat leadership and lifelong dedication to preserving the Ranger legacy.\nDuring the Battle of Mogadishu in October 1993\, Ranger Thomas displayed remarkable courage amid one of the fiercest urban battles in U.S. military history. When his squad leader was wounded\, Thomas took command\, leading his men to secure a downed Black Hawk helicopter. \nOutnumbered 10-1\, he and his fellow Rangers defended their position for 18 hours under intense enemy fire. His actions\, rooted in selfless service and intestinal fortitude\, earned him the Bronze Star with Valor and reflected the Ranger’s sacred commitment to never leaving a fallen comrade. \nFollowing Mogadishu\, Thomas served with distinction in the Ranger Reconnaissance Detachment\, earning his Master Parachutist rating with over 400 military free-fall jumps and graduating from the Special Forces Combat Diver course and Belgian Commando School \nAfter the Army\, RGR Thomas continued to champion Ranger values as an Emmy-winning entertainer and best-selling author. He was recognized by Congress and the White House for his dedicated work on behalf of our miliary\, volunteering for numerous USO tours to perform for troops deployed throughout Iraq and Afghanistan. \nA powerful speaker\, RGR Thomas stresses the importance of servant leadership\, using Mogadishu’s lessons to inspire audiences nationwide. His Downrange Leadership Academy translates Ranger principles to develop leaders at every level. His work with the Special Operations Warrior Foundation and Project One Vet ensures Rangers and their families are never left behind. \nRanger Thomas lives a life which honors the Ranger creed and exemplifies our motto: “Rangers Lead the Way!”
URL:https://mensclubcc.org/event/november-luncheon-9th-annual-salute-to-veterans/
LOCATION:Naples Hilton\, 5111 Tamiami Trail No\, Naples\, Florida\, 34103
END:VEVENT
BEGIN:VEVENT
DTSTART;TZID=America/New_York:20261204T073000
DTEND;TZID=America/New_York:20261204T090000
DTSTAMP:20260422T022839
CREATED:20250815T190936Z
LAST-MODIFIED:20251022T140737Z
UID:7805-1796369400-1796374800@mensclubcc.org
SUMMARY:December Holiday Breakfast - Remembering Pearl Harbor
DESCRIPTION:
URL:https://mensclubcc.org/event/december-holiday-breakfast/
LOCATION:Naples Hilton\, 5111 Tamiami Trail No\, Naples\, Florida\, 34103
END:VEVENT
END:VCALENDAR