BEGIN:VCALENDAR
VERSION:2.0
PRODID:-//The Right Men's Club of Collier County, (Former Republican Men's Club) - ECPv6.15.20//NONSGML v1.0//EN
CALSCALE:GREGORIAN
METHOD:PUBLISH
X-WR-CALNAME:The Right Men's Club of Collier County, (Former Republican Men's Club)
X-ORIGINAL-URL:https://mensclubcc.org
X-WR-CALDESC:Events for The Right Men's Club of Collier County, (Former Republican Men's Club)
REFRESH-INTERVAL;VALUE=DURATION:PT1H
X-Robots-Tag:noindex
X-PUBLISHED-TTL:PT1H
BEGIN:VTIMEZONE
TZID:America/New_York
BEGIN:DAYLIGHT
TZOFFSETFROM:-0500
TZOFFSETTO:-0400
TZNAME:EDT
DTSTART:20250309T070000
END:DAYLIGHT
BEGIN:STANDARD
TZOFFSETFROM:-0400
TZOFFSETTO:-0500
TZNAME:EST
DTSTART:20251102T060000
END:STANDARD
BEGIN:DAYLIGHT
TZOFFSETFROM:-0500
TZOFFSETTO:-0400
TZNAME:EDT
DTSTART:20260308T070000
END:DAYLIGHT
BEGIN:STANDARD
TZOFFSETFROM:-0400
TZOFFSETTO:-0500
TZNAME:EST
DTSTART:20261101T060000
END:STANDARD
BEGIN:DAYLIGHT
TZOFFSETFROM:-0500
TZOFFSETTO:-0400
TZNAME:EDT
DTSTART:20270314T070000
END:DAYLIGHT
BEGIN:STANDARD
TZOFFSETFROM:-0400
TZOFFSETTO:-0500
TZNAME:EST
DTSTART:20271107T060000
END:STANDARD
END:VTIMEZONE
BEGIN:VEVENT
DTSTART;TZID=America/New_York:20260306T073000
DTEND;TZID=America/New_York:20260306T090000
DTSTAMP:20260421T144355
CREATED:20250815T190058Z
LAST-MODIFIED:20260207T172932Z
UID:7781-1772782200-1772787600@mensclubcc.org
SUMMARY:March Breakfast - Michael Maibach Kicks Off our 250th Anniversary Series with "America - The Story of Us"
DESCRIPTION:“Jefferson’s Path To Philadelphia & The Five Key Phrases In the Declaration”\nMichael MaibachManaging Director of James Wilson Institute \nClick Here to Register or RSVP\nJoin us March 6th at 7:30 am at Naples Hilton\, as historian Michael Maibach begins this year’s 250th anniversary of America story. Michael Maibach is Managing Director of The James Wilson Institute. \nJames Wilson was one of the first two signers of The Committee of Five with Thomas Jefferson to present to the Continental Congress in July 1776. \nMaibach’s title for this presentation is “Jefferson’s Path To Philadelphia & The Five Key Phrases In the Declaration” \nBio\nMichael Maibach is a seasoned professional in global business diplomacy\, advisor to non-profit organizations\, and an active supporter of civic engagement. \nFrom 2003 to 2012 he was President & CEO of the European-American Business Council\, a group of 75 multinational companies.\nFrom 1983 to 2001 Mr. Maibach was Vice President of Global Government Affairs for the Intel Corporation. He worked closely with its four founders\, Robert Noyce\, Gordon Moore\, Andy Grove and Les Vadasz. At Intel he built a global team of 150 professionals advancing the company’s commercial policies. He offered testimony on 18 occasions to the US Congress on behalf of his industry. \nFrom 1976 to 1983 he was a Government Affairs Manager at Caterpillar\, Inc. in Illinois\, California\, and Washington DC. His initial job at CAT was as a machine shop foreman in their East Peoria tractor factory. He opened CAT’s California Government Affairs Office in 1979. \nToday he is a Distinguished Fellow on American Federalism at Save Our States\, an organization dedicated to defending the Constitution’s Electoral College design. He is also the Founder of the Center For the Electoral College. In 2020 and again in 2024 he was elected by his party to be a Presidential Elector in Virginia. \nMichael is a Trustee of the James Wilson Institute\, the Witherspoon Institute\, the Russell Kirk Center\, the Philadelphia Society\, the American Constitutional Rights Union… and several other non-profit Boards. \nMr. Maibach has earned seven university degrees. While earning his first degree\, he was elected to the DeKalb County Board in his native Illinois\, becoming the first American elected to public office under 21 years of age in US history. \nMichael is a native of Peoria\, Illinois. He spent his Intel career in California’s Silicon Valley. He has lived in Old Town Alexandria\, Virginia for 28 years and has a winter home in Naples\, Florida. \nPronounced: “May-Bach” \nMichael C. Maibach\nProfessional Background\nGlobal Business Diplomacy & Civic Engagement Success \nSave Our States  (2019 – Present) \n\nDistinguished Fellow on American Federalism\n\nAmerican Constitutional Rights Union  (2025 – Present) \n\nPolicy Board Member\n\nJames Wilson Institute   (2015 – Present) \n\nBoard of Trustees & Managing Director\n\nAspen Institute – 21st Century Manufacturing Program  (2012 – 2015) \n\nSenior Fellow / Manufacturing Policy\n\nEuropean-American Business Council    (2003 – 2012)   \n\nPresident & CEO\n\nIntel Corporation    (1983 – 2001)   \n\nVice President\, Global Government Affairs\n\nCaterpillar Tractor Co.  (1976 –  1983)   \n\nGovernment Affairs Manager: Illinois\, California\, Washington DC\n\nIllinois State Senate  (1975 – 1976) \n\nLegislative Fellow & Samuel K. Gove Legislative Internship Hall of Fame\n\nDekalb County Board Member (Illinois)  (1972 – 1975) \n\nFirst American Elected To Public Office Under the Age of 21 in US History
URL:https://mensclubcc.org/event/march-breakfast/
LOCATION:Naples Hilton\, 5111 Tamiami Trail No\, Naples\, Florida\, 34103
END:VEVENT
END:VCALENDAR