BEGIN:VCALENDAR
VERSION:2.0
PRODID:-//The Right Men's Club of Collier County, (Former Republican Men's Club) - ECPv6.15.20//NONSGML v1.0//EN
CALSCALE:GREGORIAN
METHOD:PUBLISH
X-ORIGINAL-URL:https://mensclubcc.org
X-WR-CALDESC:Events for The Right Men's Club of Collier County, (Former Republican Men's Club)
REFRESH-INTERVAL;VALUE=DURATION:PT1H
X-Robots-Tag:noindex
X-PUBLISHED-TTL:PT1H
BEGIN:VTIMEZONE
TZID:America/New_York
BEGIN:DAYLIGHT
TZOFFSETFROM:-0500
TZOFFSETTO:-0400
TZNAME:EDT
DTSTART:20230312T070000
END:DAYLIGHT
BEGIN:STANDARD
TZOFFSETFROM:-0400
TZOFFSETTO:-0500
TZNAME:EST
DTSTART:20231105T060000
END:STANDARD
BEGIN:DAYLIGHT
TZOFFSETFROM:-0500
TZOFFSETTO:-0400
TZNAME:EDT
DTSTART:20240310T070000
END:DAYLIGHT
BEGIN:STANDARD
TZOFFSETFROM:-0400
TZOFFSETTO:-0500
TZNAME:EST
DTSTART:20241103T060000
END:STANDARD
BEGIN:DAYLIGHT
TZOFFSETFROM:-0500
TZOFFSETTO:-0400
TZNAME:EDT
DTSTART:20250309T070000
END:DAYLIGHT
BEGIN:STANDARD
TZOFFSETFROM:-0400
TZOFFSETTO:-0500
TZNAME:EST
DTSTART:20251102T060000
END:STANDARD
END:VTIMEZONE
BEGIN:VEVENT
DTSTART;TZID=America/New_York:20240924T173000
DTEND;TZID=America/New_York:20240924T203000
DTSTAMP:20260421T190722
CREATED:20240909T172145Z
LAST-MODIFIED:20240913T163244Z
UID:6987-1727199000-1727209800@mensclubcc.org
SUMMARY:Get Out The Vote Workshop
DESCRIPTION:Open to All Republican – Need not be a member of a club to join \nThe time to act is now. Join The Leadership Institute as they travel across America\, training conservatives on Get Out the Vote fundamentals. \nThe 2024 National GOTV Program is a series of nationwide workshops that will teach attendees modern GOTV strategies and tactics for canvassing\, phone banking\, texting\, using voter data\, and volunteering. \nYou will also learn the best practices for absentee and early voting\, election integrity\, and poll watching/greeting. These trainings will give you the tools to participate effectively in our democratic process\, hone and expand your GOTV skillset\, and help save America. \nThis GOTV Workshop is ideal for elected officials\, current or future candidates for political office\, campaign operatives\, party officials\, and campaign volunteers. You will also have opportunities to put what you learn into practice: \n• Door Knocking Fundamentals Role-Play Session \n• Phone Banking Role-Play Session \n• Poll Greeting Role-Play and Discussion \n\n\n\n\n\n\nAlready registered?\n\n\n\n\n\n\n\n\n\nSpeakers\nTake a look at our speakers scheduled for this event\n\n\n\n\n\n\n\n\nCarlos Cardenas\n\nView Profile\n\n\n\n\n\n\n\n\nAngela Faulkner\n\nView Profile\n\n\n\n\n\n\n\n\n\n\n\n\n\n\n\n\nFees\nBelow is all of the pricing information for the event.\nAdmission Items\n\n\nEvent Registration\n\n\n\n\nEvent Registration \n$10.00 \nRefund policy
URL:https://mensclubcc.org/event/get-out-the-vote-workshop/
LOCATION:Naples Hilton\, 5111 Tamiami Trail No\, Naples\, Florida\, 34103
END:VEVENT
END:VCALENDAR